BEGIN:VCALENDAR
PRODID:-//github.com/rianjs/ical.net//NONSGML ical.net 4.0//EN
VERSION:2.0
BEGIN:VEVENT
DESCRIPTION:Details:\nhttps://bbyo.org/bbyo-near-you/regions/eastern-regio
 n/eastern-regional-convention-2022-transportation
DTEND:20221218T160000
DTSTAMP:20260424T003757Z
DTSTART:20221216T120000
LOCATION:
SEQUENCE:0
SUMMARY:Eastern Regional Convention 2022 Transportation
UID:41c0d76f-c858-44a8-a589-6daa069c3999
END:VEVENT
END:VCALENDAR
