BEGIN:VCALENDAR
PRODID:-//github.com/rianjs/ical.net//NONSGML ical.net 4.0//EN
VERSION:2.0
BEGIN:VEVENT
DESCRIPTION:Details:\nhttps://bbyo.org/bbyo-near-you/regions/kentucky-indi
 ana-ohio-region/kio-l-dor-v-dor-(ait-mit)-convention-2019\n\nSummary:\nRe
 gistration for AIT/MIT Convention 2019 is now open for all members who ha
 ve not already attended AIT/MIT Convention!\n\n \n\nFriday April 12th at 
 6:00pm through Sunday April 14th at 11:00am. \n
DTEND:20190414T110000
DTSTAMP:20260422T054744Z
DTSTART:20190412T180000
LOCATION:Bennington Indiana
SEQUENCE:0
SUMMARY:KIO L'dor V'dor (AIT/MIT) Convention 2019
UID:59ed45c8-0daa-4cc0-aaa5-cd989aee4b99
END:VEVENT
END:VCALENDAR
