BEGIN:VCALENDAR
PRODID:-//github.com/rianjs/ical.net//NONSGML ical.net 4.0//EN
VERSION:2.0
BEGIN:VEVENT
DESCRIPTION:Details:\nhttps://bbyo.org/bbyo-near-you/regions/manhattan-reg
 ion/mhr-bbg-fifth-annual-cupcake-wars!
DTEND:20240328T200000
DTSTAMP:20260426T030229Z
DTSTART:20240328T183000
LOCATION:JCC Manhattan
SEQUENCE:0
SUMMARY:MHR BBG FIFTH ANNUAL CUPCAKE WARS!
UID:f73b3f1c-73fb-4500-8640-ff5c002d6b08
END:VEVENT
END:VCALENDAR
