BEGIN:VCALENDAR
PRODID:-//github.com/rianjs/ical.net//NONSGML ical.net 4.0//EN
VERSION:2.0
BEGIN:VEVENT
DESCRIPTION:Details:\nhttps://bbyo.org/bbyo-near-you/regions/hudson-valley
 -region/hvr-senior-life
DTEND:20240611T190000
DTSTAMP:20260420T235551Z
DTSTART:20240611T170000
LOCATION:Abe Friedland's House
SEQUENCE:0
SUMMARY:HVR Senior LIFE
UID:33777edf-8d20-414c-886f-82f117f62896
END:VEVENT
END:VCALENDAR
