BEGIN:VCALENDAR
PRODID:-//github.com/rianjs/ical.net//NONSGML ical.net 4.0//EN
VERSION:2.0
BEGIN:VEVENT
DESCRIPTION:Details:\nhttps://bbyo.org/bbyo-near-you/regions/michigan-regi
 on/fall-conclave
DTEND:20061105T153000
DTSTAMP:20260424T083703Z
DTSTART:20061103T153000
LOCATION:Camp Maas
SEQUENCE:0
SUMMARY:Fall Conclave
UID:d511fd67-c9a4-4323-8470-88352c1933de
END:VEVENT
END:VCALENDAR
