BEGIN:VCALENDAR
PRODID:-//github.com/rianjs/ical.net//NONSGML ical.net 4.0//EN
VERSION:2.0
BEGIN:VEVENT
DESCRIPTION:Details:\nhttps://bbyo.org/bbyo-near-you/regions/delta-region/
 csr-bundle-package-2-(pc3080)-non-regional-board\n\nSummary:\nThis is the
  Registration for the New CSR Regional Program Bundle Package.  The Bundl
 e Package includes registration for Fall Regional Kickoff on August 26-28
 \,  Regional Convention on Decembe
DTEND:20170423T130000
DTSTAMP:20260424T111629Z
DTSTART:20160827T173000
LOCATION:Various
SEQUENCE:0
SUMMARY:CSR Bundle Package 2 (PC3080) Non-Regional Board
UID:2adef8da-2ccb-4266-bf74-f0cc80b03017
END:VEVENT
END:VCALENDAR
