BEGIN:VCALENDAR
PRODID:-//github.com/rianjs/ical.net//NONSGML ical.net 4.0//EN
VERSION:2.0
BEGIN:VEVENT
DESCRIPTION:Details:\nhttps://bbyo.org/bbyo-near-you/regions/hudson-valley
 -region/mit-class-4-fall-2016\n\nSummary:\nMIT stands for Members In Trai
 ning. MIT classes are for new members of BBYO to get to know other new me
 mbers and to learn more about BBYO! It's a fun opportunity to bond with g
 irls you may n
DTEND:20161127T130000
DTSTAMP:20260420T181027Z
DTSTART:20161127T120000
LOCATION:Emma Abramson's house
SEQUENCE:0
SUMMARY:Mit Class #4 Fall 2016
UID:23db20a4-8f62-4ed6-8ce6-1c1a614066f8
END:VEVENT
END:VCALENDAR
