BEGIN:VCALENDAR
PRODID:-//github.com/rianjs/ical.net//NONSGML ical.net 4.0//EN
VERSION:2.0
BEGIN:VEVENT
DESCRIPTION:Details:\nhttps://bbyo.org/bbyo-near-you/regions/hudson-valley
 -region/hvr-s-mid-december-hannukah-extravaganza-day\n\nSummary:\nJoin th
 e rest of the region for an awesome day filled with fun Hannukah games\, 
 programs planned by your regional board\, a professionally taught Zumba c
 lass\, and much more!
DTEND:20201219T183000
DTSTAMP:20260423T195537Z
DTSTART:20201219T110000
LOCATION:
SEQUENCE:0
SUMMARY:HVR's Mid-December Hannukah Extravaganza Day
UID:00b22905-0507-4c02-a9af-91bf2f799823
END:VEVENT
END:VCALENDAR
