BEGIN:VCALENDAR
PRODID:-//github.com/rianjs/ical.net//NONSGML ical.net 4.0//EN
VERSION:2.0
BEGIN:VEVENT
DESCRIPTION:Details:\nhttps://bbyo.org/bbyo-near-you/regions/wisconsin-reg
 ion/wi-oneg-11-9-18
DTEND:20181109T170000
DTSTAMP:20260421T222300Z
DTSTART:20181109T151500
LOCATION:BBYO Offices
SEQUENCE:0
SUMMARY:WI - Oneg - 11.9.18
UID:753917df-f79f-40d5-b750-501a27d9a314
END:VEVENT
END:VCALENDAR
