BEGIN:VCALENDAR
PRODID:-//github.com/rianjs/ical.net//NONSGML ical.net 4.0//EN
VERSION:2.0
BEGIN:VEVENT
DESCRIPTION:Details:\nhttps://bbyo.org/bbyo-near-you/regions/pacific-weste
 rn-region/spring-con-early-bird-surchage
DTEND:20230416T140000
DTSTAMP:20260423T101814Z
DTSTART:20230414T160000
LOCATION:
SEQUENCE:0
SUMMARY:Spring Con - Early Bird Surchage
UID:6afcf3c5-9716-4857-8a1a-8f52f322af81
END:VEVENT
END:VCALENDAR
