BEGIN:VCALENDAR
PRODID:-//github.com/rianjs/ical.net//NONSGML ical.net 4.0//EN
VERSION:2.0
BEGIN:VEVENT
DESCRIPTION:Details:\nhttps://bbyo.org/bbyo-near-you/regions/nassau-suffol
 k-region/nsr-winter-kickoff-2019
DTEND:20190126T220000
DTSTAMP:20260423T200354Z
DTSTART:20190126T190000
LOCATION:Syosset New York
SEQUENCE:0
SUMMARY:NSR Winter Kickoff 2019
UID:22cd5f29-79f3-4d1e-9598-e9b54cd87f6d
END:VEVENT
END:VCALENDAR
