BEGIN:VCALENDAR
PRODID:-//github.com/rianjs/ical.net//NONSGML ical.net 4.0//EN
VERSION:2.0
BEGIN:VEVENT
DESCRIPTION:Details:\nhttps://bbyo.org/bbyo-near-you/regions/lake-ontario-
 region/t2-06-reena
DTEND;VALUE=DATE:20060423
DTSTAMP:20260423T132000Z
DTSTART;VALUE=DATE:20060423
LOCATION:
SEQUENCE:0
SUMMARY:T2-06 Reena
UID:27fba8f2-bb09-47d1-92da-1f4209199600
END:VEVENT
END:VCALENDAR
