BEGIN:VCALENDAR
PRODID:-//github.com/rianjs/ical.net//NONSGML ical.net 4.0//EN
VERSION:2.0
BEGIN:VEVENT
DESCRIPTION:Details:\nhttps://bbyo.org/bbyo-near-you/regions/manhattan-reg
 ion/central
DTEND:20221206T200000
DTSTAMP:20260420T180516Z
DTSTART:20221206T190000
LOCATION:Central Synagogue
SEQUENCE:0
SUMMARY:Central
UID:d5e77d7c-ffc3-4949-896b-e85800058512
END:VEVENT
END:VCALENDAR
