BEGIN:VCALENDAR
PRODID:-//github.com/rianjs/ical.net//NONSGML ical.net 4.0//EN
VERSION:2.0
BEGIN:VEVENT
DESCRIPTION:Details:\nhttps://bbyo.org/bbyo-near-you/regions/northern-regi
 on-east-baltimore-council/baltimore-council-convention-chofesh-hangout-g-
 (1)
DTEND:20210424T173000
DTSTAMP:20260422T101206Z
DTSTART:20210424T160000
LOCATION:Owings Mills Maryland
SEQUENCE:0
SUMMARY:Baltimore Council Convention Chofesh: Hangout Group 2
UID:59cf3797-6be4-4a58-bfa3-bf95b0b4c8e6
END:VEVENT
END:VCALENDAR
