BEGIN:VCALENDAR
PRODID:-//github.com/rianjs/ical.net//NONSGML ical.net 4.0//EN
VERSION:2.0
BEGIN:VEVENT
DESCRIPTION:Details:\nhttps://bbyo.org/bbyo-near-you/regions/mountain-regi
 on/mtn-fall-convention-2016-pc3000\n\nSummary:\nGet ready for MTN Region 
 Fall Convention!  This year Fall Convention will focus on leadership trai
 ning and brotherhood/sisterhood bonding.  It will be full of programming\
 , Shabbat experie
DTEND:20161023T120000
DTSTAMP:20260422T003716Z
DTSTART:20161021T170000
LOCATION:Lions Camp Tatiyee
SEQUENCE:0
SUMMARY:MTN Fall Convention 2016 - PC3000
UID:044a12b2-1723-40f1-9c58-eb1b2fcffd2e
END:VEVENT
END:VCALENDAR
