BEGIN:VCALENDAR
PRODID:-//github.com/rianjs/ical.net//NONSGML ical.net 4.0//EN
VERSION:2.0
BEGIN:VEVENT
DESCRIPTION:Details:\nhttps://bbyo.org/bbyo-near-you/regions/michigan-regi
 on/bbg-regional-meeting-(3)
DTEND:20220405T203000
DTSTAMP:20260425T235327Z
DTSTART:20220405T193000
LOCATION:BBYO Office
SEQUENCE:0
SUMMARY:BBG Regional Meeting
UID:9c05543a-ddc5-4daa-937c-366540015852
END:VEVENT
END:VCALENDAR
