BEGIN:VCALENDAR
PRODID:-//github.com/rianjs/ical.net//NONSGML ical.net 4.0//EN
VERSION:2.0
BEGIN:VEVENT
DESCRIPTION:Details:\nhttps://bbyo.org/bbyo-near-you/regions/michigan-regi
 on/teen-connection-laser-quest
DTEND;VALUE=DATE:20051113
DTSTAMP:20260419T122610Z
DTSTART;VALUE=DATE:20051113
LOCATION:Laser Quest
SEQUENCE:0
SUMMARY:Teen Connection Laser Quest
UID:2bd509c8-0506-4783-baa6-9e1384a2f631
END:VEVENT
END:VCALENDAR
