BEGIN:VCALENDAR
PRODID:-//github.com/rianjs/ical.net//NONSGML ical.net 4.0//EN
VERSION:2.0
BEGIN:VEVENT
DESCRIPTION:Details:\nhttps://bbyo.org/bbyo-near-you/regions/north-texas-o
 klahoma-region/b-yachad-l-tid-6th-steering-meeting
DTEND:20231112T160000
DTSTAMP:20260420T100520Z
DTSTART:20231112T140000
LOCATION:JCC
SEQUENCE:0
SUMMARY:B'yachad L'tid 6th Steering Meeting
UID:df956bbf-1918-40ee-81c6-3eabc9d2f04a
END:VEVENT
END:VCALENDAR
