BEGIN:VCALENDAR
PRODID:-//github.com/rianjs/ical.net//NONSGML ical.net 4.0//EN
VERSION:2.0
BEGIN:VEVENT
DESCRIPTION:Details:\nhttps://bbyo.org/bbyo-near-you/regions/hudson-valley
 -region/hvr-s-neon-night-out-in-support-of-ukraine
DTEND:20220423T213000
DTSTAMP:20260422T101540Z
DTSTART:20220423T200000
LOCATION:JCC of Mid-Westchester
SEQUENCE:0
SUMMARY:HVR's Neon Night Out in Support of Ukraine
UID:212fb291-9ea8-4b5c-8dce-8c0e423e935b
END:VEVENT
END:VCALENDAR
