BEGIN:VCALENDAR
PRODID:-//github.com/rianjs/ical.net//NONSGML ical.net 4.0//EN
VERSION:2.0
BEGIN:VEVENT
DESCRIPTION:Details:\nhttps://bbyo.org/bbyo-near-you/regions/big-apple-reg
 ion/bar-one-way-bus-to-ic-(baltimore-to-queens-only)\n\nSummary:\nThis is
  to register for ONE WAY ONLY (Baltimore to Queens) for the BAR bus to IC
 . For more information\, contact Laura Hemlock (LHemlock@bbyo.org).
DTEND:20160215T133000
DTSTAMP:20260425T235136Z
DTSTART:20160215T093000
LOCATION:Baltimore\, MD
SEQUENCE:0
SUMMARY:BAR One Way Bus to IC (Baltimore to Queens Only)
UID:39da4cf7-6aaa-4f66-9564-bf0c4d37ee7e
END:VEVENT
END:VCALENDAR
