BEGIN:VCALENDAR
PRODID:-//github.com/rianjs/ical.net//NONSGML ical.net 4.0//EN
VERSION:2.0
BEGIN:VEVENT
DESCRIPTION:Details:\nhttps://bbyo.org/bbyo-near-you/regions/nassau-suffol
 k-region/nsr-spring-convention-2018
DTEND;VALUE=DATE:20180429
DTSTAMP:20260421T100348Z
DTSTART;VALUE=DATE:20180427
LOCATION:
SEQUENCE:0
SUMMARY:NSR Spring Convention 2018
UID:afc93a6d-b4d7-4a2a-a0ca-a2955ba0bc40
END:VEVENT
END:VCALENDAR
