BEGIN:VCALENDAR
PRODID:-//github.com/rianjs/ical.net//NONSGML ical.net 4.0//EN
VERSION:2.0
BEGIN:VEVENT
DESCRIPTION:Details:\nhttps://bbyo.org/bbyo-near-you/regions/lonestar-regi
 on/austin-s-red-carpet-motek-reveal\n\nSummary:\nBBYO presents the first 
 kind of Motek Reveal!\n\nCome join us on the red carpet as we reveal Aust
 in's chapter Beau's and Sweeties plus the first ever excusive Austin Chap
 ter AZA and BBG chapter awards!\n\n\nPlease react out to Austin City Dire
 ctor\, Malka Miller at malka.miller@shalomaustin.org with any questions. 
 \n\n
DTEND:20230211T210000
DTSTAMP:20260425T183055Z
DTSTART:20230211T190000
LOCATION:Austin Texas
SEQUENCE:0
SUMMARY:Austin's Red Carpet Motek Reveal
UID:79a1a751-8b6f-4e22-b5c2-1b176294e88e
END:VEVENT
END:VCALENDAR
