BEGIN:VCALENDAR
PRODID:-//github.com/rianjs/ical.net//NONSGML ical.net 4.0//EN
VERSION:2.0
BEGIN:VEVENT
DESCRIPTION:Details:\nhttps://bbyo.org/bbyo-near-you/regions/gold-coast-re
 gion/swfl-fall-fest
DTEND:20171118T000100
DTSTAMP:20260424T215449Z
DTSTART;VALUE=DATE:20171118
LOCATION:
SEQUENCE:0
SUMMARY:SWFL Fall Fest
UID:b1738556-8499-4ab2-abea-48d13f8b4098
END:VEVENT
END:VCALENDAR
