BEGIN:VCALENDAR
PRODID:-//github.com/rianjs/ical.net//NONSGML ical.net 4.0//EN
VERSION:2.0
BEGIN:VEVENT
DESCRIPTION:Details:\nhttps://bbyo.org/bbyo-near-you/regions/north-texas-o
 klahoma-region/39th-regional-board-meeting-(17)
DTEND:20231130T193000
DTSTAMP:20260420T181327Z
DTSTART:20231130T183000
LOCATION:JCC
SEQUENCE:0
SUMMARY:39th Regional Board Meeting
UID:def8e8b7-e362-4b32-b857-bbc9f56bb95b
END:VEVENT
END:VCALENDAR
