BEGIN:VCALENDAR
PRODID:-//github.com/rianjs/ical.net//NONSGML ical.net 4.0//EN
VERSION:2.0
BEGIN:VEVENT
DESCRIPTION:Details:\nhttps://bbyo.org/bbyo-near-you/regions/rocky-mountai
 n-region/azaa-basketball-(7)
DTEND:20220504T210000
DTSTAMP:20260423T052527Z
DTSTART:20220504T190000
LOCATION:JCC
SEQUENCE:0
SUMMARY:AZAA Basketball
UID:29b12cf1-5fcf-4d78-9b55-5e5d73e7222d
END:VEVENT
END:VCALENDAR
