BEGIN:VCALENDAR
PRODID:-//github.com/rianjs/ical.net//NONSGML ical.net 4.0//EN
VERSION:2.0
BEGIN:VEVENT
DESCRIPTION:Details:\nhttps://bbyo.org/bbyo-near-you/regions/north-florida
 -region/bbyo-at-the-ballpark
DTEND:20180225T000100
DTSTAMP:20260422T054744Z
DTSTART;VALUE=DATE:20180225
LOCATION:
SEQUENCE:0
SUMMARY:BBYO at the Ballpark
UID:f22e80ed-297f-4b48-b069-4728eb6ed76a
END:VEVENT
END:VCALENDAR
