BEGIN:VCALENDAR
PRODID:-//github.com/rianjs/ical.net//NONSGML ical.net 4.0//EN
VERSION:2.0
BEGIN:VEVENT
DESCRIPTION:Details:\nhttps://bbyo.org/bbyo-near-you/regions/northern-regi
 on-east-dc-council/10-3-22-monday-meet-up
DTEND:20221003T200000
DTSTAMP:20260422T101746Z
DTSTART:20221003T190000
LOCATION:Bender JCC
SEQUENCE:0
SUMMARY:10/3/22 Monday Meet-Up
UID:8900a1da-490b-479d-892c-478779ea7e2d
END:VEVENT
END:VCALENDAR
