BEGIN:VCALENDAR
PRODID:-//github.com/rianjs/ical.net//NONSGML ical.net 4.0//EN
VERSION:2.0
BEGIN:VEVENT
DESCRIPTION:Details:\nhttps://bbyo.org/bbyo-near-you/regions/kentucky-indi
 ana-ohio-region/kio-spirit-convention-2019\n\nSummary:\nDon't miss out on
  one of KIO's biggest and most exciting conventions of the year! Join you
 r fellow Alephs and B’nai Brith Girls as chapters from Cincinnati\, Colum
 bus\, Dayton\, Indianapolis\, a
DTEND:20191020T110000
DTSTAMP:20260423T002002Z
DTSTART:20191018T180000
LOCATION:Camp Campbell Gard
SEQUENCE:0
SUMMARY:KIO Spirit Convention 2019
UID:9457e768-2477-4789-88ef-c779b911b343
END:VEVENT
END:VCALENDAR
