BEGIN:VCALENDAR
PRODID:-//github.com/rianjs/ical.net//NONSGML ical.net 4.0//EN
VERSION:2.0
BEGIN:VEVENT
DESCRIPTION:Details:\nhttps://bbyo.org/bbyo-near-you/regions/mountain-regi
 on/scottsdale-summer-info-session-with-international-
DTEND:20231030T200000
DTSTAMP:20260423T195209Z
DTSTART:20231030T191500
LOCATION:Scottsdale JCC
SEQUENCE:0
SUMMARY:Scottsdale Summer Info Session with International BBYO Staff
UID:1df989ff-aa03-4d63-8309-94bc883d10a3
END:VEVENT
END:VCALENDAR
