BEGIN:VCALENDAR
PRODID:-//github.com/rianjs/ical.net//NONSGML ical.net 4.0//EN
VERSION:2.0
BEGIN:VEVENT
DESCRIPTION:Details:\nhttps://bbyo.org/bbyo-near-you/regions/rocky-mountai
 n-region/meetings-(2)
DTEND;VALUE=DATE:20160126
DTSTAMP:20260424T004022Z
DTSTART;VALUE=DATE:20160126
LOCATION:
SEQUENCE:0
SUMMARY:meetings
UID:e5920466-8ca6-497b-9579-804617f49ea6
END:VEVENT
END:VCALENDAR
