BEGIN:VCALENDAR
PRODID:-//github.com/rianjs/ical.net//NONSGML ical.net 4.0//EN
VERSION:2.0
BEGIN:VEVENT
DESCRIPTION:Details:\nhttps://bbyo.org/bbyo-near-you/regions/rocky-mountai
 n-region/rmr-frat-sis-2015-pc-3000\n\nSummary:\nWe are SO excited to offi
 cially announce that Fall Convention is transitioning to Frat/Sis Convent
 ion! This brand new convention is already filled with innovative programs
  and exciting addit
DTEND:20151018T120000
DTSTAMP:20260423T002200Z
DTSTART:20151016T160000
LOCATION:Denver Marriott West
SEQUENCE:0
SUMMARY:RMR - Frat/Sis 2015 - PC 3000
UID:a64901f7-03b5-4971-bdf3-91b18759b3d2
END:VEVENT
END:VCALENDAR
