BEGIN:VCALENDAR
PRODID:-//github.com/rianjs/ical.net//NONSGML ical.net 4.0//EN
VERSION:2.0
BEGIN:VEVENT
DESCRIPTION:Details:\nhttps://bbyo.org/bbyo-near-you/regions/delta-region/
 nashville-kickoff
DTEND:20240128T150000
DTSTAMP:20260422T084849Z
DTSTART:20240128T130000
LOCATION:TopGolf
SEQUENCE:0
SUMMARY:Nashville Kickoff
UID:355b407c-64bf-40a5-9499-2f7af8ee3e24
END:VEVENT
END:VCALENDAR
