BEGIN:VCALENDAR
PRODID:-//github.com/rianjs/ical.net//NONSGML ical.net 4.0//EN
VERSION:2.0
BEGIN:VEVENT
DESCRIPTION:Details:\nhttps://bbyo.org/bbyo-near-you/regions/keystone-moun
 tain-region/givingbbyoday
DTEND:20231129T200000
DTSTAMP:20260423T042647Z
DTSTART:20231128T180000
LOCATION:
SEQUENCE:0
SUMMARY:#givingBBYOday
UID:ef683170-ee56-4ac2-acef-9ac0decc2e63
END:VEVENT
END:VCALENDAR
