BEGIN:VCALENDAR
PRODID:-//github.com/rianjs/ical.net//NONSGML ical.net 4.0//EN
VERSION:2.0
BEGIN:VEVENT
DESCRIPTION:Details:\nhttps://bbyo.org/bbyo-near-you/regions/evergreen-reg
 ion/portland-bbyo-fall-kickoff
DTEND:20240908T130000
DTSTAMP:20260422T003717Z
DTSTART:20240908T110000
LOCATION:Happy Valley Oregon
SEQUENCE:0
SUMMARY:PORTLAND BBYO FALL KICKOFF
UID:0badb0bb-f6d9-4a1a-9876-f35f474d70ad
END:VEVENT
END:VCALENDAR
