BEGIN:VCALENDAR
PRODID:-//github.com/rianjs/ical.net//NONSGML ical.net 4.0//EN
VERSION:2.0
BEGIN:VEVENT
DESCRIPTION:Details:\nhttps://bbyo.org/bbyo-near-you/regions/greater-atlan
 ta-region/cltc-1-2022\n\nSummary:\nChapter Leadership Training Conference
  (CLTC) is BBYO&rsquo\;s premier\, hands-on leadership experience for cur
 rent 9th and 10th grade members.
DTEND:20220619T090000
DTSTAMP:20260420T181005Z
DTSTART:20220607T090000
LOCATION:Wayne County Pennsylvania
SEQUENCE:0
SUMMARY:CLTC 1 2022
UID:f16afac1-0536-4f6a-9c3e-27370873c877
END:VEVENT
END:VCALENDAR
