BEGIN:VCALENDAR
PRODID:-//github.com/rianjs/ical.net//NONSGML ical.net 4.0//EN
VERSION:2.0
BEGIN:VEVENT
DESCRIPTION:Details:\nhttps://bbyo.org/bbyo-near-you/regions/pacific-weste
 rn-region/pwr-convention-battle-of-the-cabins
DTEND:20211114T123000
DTSTAMP:20260423T200527Z
DTSTART:20211112T170000
LOCATION:Angelus Oaks California
SEQUENCE:0
SUMMARY:PWR Convention - Battle of the Cabins
UID:b738aa00-773e-4676-bc39-bc5b4c7bd644
END:VEVENT
END:VCALENDAR
