BEGIN:VCALENDAR
PRODID:-//github.com/rianjs/ical.net//NONSGML ical.net 4.0//EN
VERSION:2.0
BEGIN:VEVENT
DESCRIPTION:Details:\nhttps://bbyo.org/bbyo-near-you/regions/evergreen-reg
 ion/regional-board-training
DTEND:20190823T120000
DTSTAMP:20260425T233826Z
DTSTART:20190821T120000
LOCATION:Seattle
SEQUENCE:0
SUMMARY:Regional Board Training
UID:6803289e-9d45-4415-9f6e-8b262ec7aeda
END:VEVENT
END:VCALENDAR
