BEGIN:VCALENDAR
PRODID:-//github.com/rianjs/ical.net//NONSGML ical.net 4.0//EN
VERSION:2.0
BEGIN:VEVENT
DESCRIPTION:Details:\nhttps://bbyo.org/bbyo-near-you/regions/central-regio
 n-west/crw-presents-convention\n\nSummary:\nJoin CRW for a once in a life
 time CONVENTION experience. This convention is focused on taking advantag
 e of the opportunities a virtual convention presents.
DTEND:20210117T153000
DTSTAMP:20260425T235050Z
DTSTART:20210115T200000
LOCATION:Zoom
SEQUENCE:0
SUMMARY:CRW Presents: CONVENTION
UID:9489c777-4795-4450-bbc0-580df9e9343f
END:VEVENT
END:VCALENDAR
