BEGIN:VCALENDAR
PRODID:-//github.com/rianjs/ical.net//NONSGML ical.net 4.0//EN
VERSION:2.0
BEGIN:VEVENT
DESCRIPTION:Details:\nhttps://bbyo.org/bbyo-near-you/regions/pacific-weste
 rn-region/la-valley-spring-kickoff
DTEND:20230122T160000
DTSTAMP:20260421T002244Z
DTSTART:20230122T123000
LOCATION:Burbank California
SEQUENCE:0
SUMMARY:LA/Valley Spring Kickoff
UID:d846b91e-fd3e-4e77-8d8a-d90fdacefcb2
END:VEVENT
END:VCALENDAR
