BEGIN:VCALENDAR
PRODID:-//github.com/rianjs/ical.net//NONSGML ical.net 4.0//EN
VERSION:2.0
BEGIN:VEVENT
DESCRIPTION:Details:\nhttps://bbyo.org/bbyo-near-you/regions/delta-region/
 memphis-bbyo-august-kickoff!\n\nSummary:\nMemphis BBYO Kickoff Party!\n\n
 Dave and Busters \n\n7pm-9pm\n\n2 Hours of unlimited Food and Drinks! $20
  arcade card and Unlimited game play on video games! \n\nMember Cost $15\
 n\nNon Member Cost $25
DTEND:20180818T210000
DTSTAMP:20260423T200028Z
DTSTART:20180818T190000
LOCATION:Memphis  Tennessee
SEQUENCE:0
SUMMARY:Memphis BBYO August Kickoff!
UID:78a83c15-a89b-4e6a-8636-1596ec5fabbe
END:VEVENT
END:VCALENDAR
