BEGIN:VCALENDAR
PRODID:-//github.com/rianjs/ical.net//NONSGML ical.net 4.0//EN
VERSION:2.0
BEGIN:VEVENT
DESCRIPTION:Details:\nhttps://bbyo.org/bbyo-near-you/regions/wisconsin-reg
 ion/w2022-azaa-flag-football
DTEND;VALUE=DATE:20221201
DTSTAMP:20260425T235050Z
DTSTART;VALUE=DATE:20221027
LOCATION:JCC Gym
SEQUENCE:0
SUMMARY:W2022-AZAA Flag Football
UID:e70926e6-86c6-4cd0-96f7-14d789a7f401
END:VEVENT
END:VCALENDAR
