BEGIN:VCALENDAR
PRODID:-//github.com/rianjs/ical.net//NONSGML ical.net 4.0//EN
VERSION:2.0
BEGIN:VEVENT
DESCRIPTION:Details:\nhttps://bbyo.org/bbyo-near-you/regions/eastern-regio
 n/eastern-mit-ait-convention-(2)\n\nSummary:\nMIT-AIT is a convention pla
 nned specifically for new members to BBYO. Programming during the weekend
  will revolve around the basics of BBYO: programming\, history\, and how 
 chapters function.
DTEND:20181028T120000
DTSTAMP:20260423T083821Z
DTSTART:20181026T180000
LOCATION:Greensboro North Carolina
SEQUENCE:0
SUMMARY:Eastern MIT AIT Convention
UID:d2a3071a-1a67-42b6-8865-2648177ed448
END:VEVENT
END:VCALENDAR
