BEGIN:VCALENDAR
PRODID:-//github.com/rianjs/ical.net//NONSGML ical.net 4.0//EN
VERSION:2.0
BEGIN:VEVENT
DESCRIPTION:Details:\nhttps://bbyo.org/bbyo-near-you/regions/nassau-suffol
 k-region/nsr-jserve-long-beach-project-(5120)\n\nSummary:\nPartnering wit
 h the Friedberg JCC in Long Beach to build an Eco-friendly mud play-space
 . 3-5pm.
DTEND:20170402T170000
DTSTAMP:20260423T215338Z
DTSTART:20170402T150000
LOCATION:Friedberg JCC in Long Beach
SEQUENCE:0
SUMMARY:NSR Jserve Long Beach Project (5120)
UID:b5560476-49df-477f-863d-75ceffa5347c
END:VEVENT
END:VCALENDAR
