BEGIN:VCALENDAR
PRODID:-//github.com/rianjs/ical.net//NONSGML ical.net 4.0//EN
VERSION:2.0
BEGIN:VEVENT
DESCRIPTION:Details:\nhttps://bbyo.org/bbyo-near-you/regions/keystone-moun
 tain-region/regional-board-meeting
DTEND:20240110T170000
DTSTAMP:20260425T235354Z
DTSTART:20240110T160000
LOCATION:
SEQUENCE:0
SUMMARY:Regional Board Meeting
UID:82e6cc83-89a3-405a-b581-936971087dc8
END:VEVENT
END:VCALENDAR
