BEGIN:VCALENDAR
PRODID:-//github.com/rianjs/ical.net//NONSGML ical.net 4.0//EN
VERSION:2.0
BEGIN:VEVENT
DESCRIPTION:Details:\nhttps://bbyo.org/bbyo-near-you/regions/manhattan-reg
 ion/bbyo-manhattan-s-fall-regional-convention\n\nSummary:\nBBYO Manhattan
  Region heads to Hartford\, CT for our most anticipated event of the fall
 ! We're going to a hotel for a weekend of fun\, friends\, food\, and unfo
 rgettable moments. This weekend ge
DTEND:20191110T170000
DTSTAMP:20260423T201046Z
DTSTART:20191108T133000
LOCATION:Hartford Connecticut
SEQUENCE:0
SUMMARY:BBYO Manhattan's Fall Regional Convention
UID:8133fe70-b518-46c7-8dde-d81cb84f3167
END:VEVENT
END:VCALENDAR
