BEGIN:VCALENDAR
PRODID:-//github.com/rianjs/ical.net//NONSGML ical.net 4.0//EN
VERSION:2.0
BEGIN:VEVENT
DESCRIPTION:Details:\nhttps://bbyo.org/bbyo-near-you/regions/eastern-regio
 n/eastern-region-junior-senior-convention-(1)
DTEND;VALUE=DATE:20171112
DTSTAMP:20260425T182705Z
DTSTART;VALUE=DATE:20171110
LOCATION:
SEQUENCE:0
SUMMARY:Eastern Region Junior- Senior Convention
UID:38a25981-d8ed-4757-b96b-4a9f889f1062
END:VEVENT
END:VCALENDAR
