BEGIN:VCALENDAR
PRODID:-//github.com/rianjs/ical.net//NONSGML ical.net 4.0//EN
VERSION:2.0
BEGIN:VEVENT
DESCRIPTION:Details:\nhttps://bbyo.org/bbyo-near-you/regions/mid-america-r
 egion-st-louis-council/cltc-5-2017\n\nSummary:\nChapter Leadership Traini
 ng Conference\, CLTC\, is designed for AZA and BBG members who want to le
 arn how to build and strengthen their chapter. At CLTC\, teens have fun w
 ith peers from acro
DTEND:20170716T090000
DTSTAMP:20260423T195427Z
DTSTART:20170704T130000
LOCATION:Beber Camp
SEQUENCE:0
SUMMARY:CLTC 5
UID:8c173eb5-513b-4e39-8bf7-c897e564347c
END:VEVENT
END:VCALENDAR
