BEGIN:VCALENDAR
PRODID:-//github.com/rianjs/ical.net//NONSGML ical.net 4.0//EN
VERSION:2.0
BEGIN:VEVENT
DESCRIPTION:Details:\nhttps://bbyo.org/bbyo-near-you/regions/liberty-regio
 n/liberty-region-fall-kickoff
DTEND:20211003T174500
DTSTAMP:20260425T182752Z
DTSTART:20211003T153000
LOCATION:Philadelphia Pennsylvania
SEQUENCE:0
SUMMARY:Liberty Region Fall Kickoff
UID:ba95a171-cfe0-4309-a880-9896f065fc84
END:VEVENT
END:VCALENDAR
