BEGIN:VCALENDAR
PRODID:-//github.com/rianjs/ical.net//NONSGML ical.net 4.0//EN
VERSION:2.0
BEGIN:VEVENT
DESCRIPTION:Details:\nhttps://bbyo.org/bbyo-near-you/regions/eastern-regio
 n/eastern-regional-execs
DTEND:20230910T120000
DTSTAMP:20260421T222300Z
DTSTART:20230908T180000
LOCATION:Camp Thunderbird
SEQUENCE:0
SUMMARY:Eastern Regional Execs
UID:7399de3e-7e23-4b89-be66-2489c2c3f8c5
END:VEVENT
END:VCALENDAR
